BEGIN:VCALENDAR
VERSION:2.0
PRODID:-//wp-events-plugin.com//7.2.3.1//EN
BEGIN:VEVENT
UID:75@acces.fr
DTSTART;VALUE=DATE:20171122
DTEND;VALUE=DATE:20171125
DTSTAMP:20230607T095923Z
URL:https://www.acces.fr/formations-ce/hotel-relais-spa-val-deurope/
SUMMARY:Hôtel Relais SPA - VAL D'EUROPE
DESCRIPTION:Programme en cours de finalisation
CATEGORIES:Journées nationales de formations des élus de CE
LOCATION:Relais Spa Val d'Europe\, 1 Rue des Grands Prés\, Chessy\, 77700\
 , France
GEO:48.8573254;2.772843299999977
X-APPLE-STRUCTURED-LOCATION;VALUE=URI;X-ADDRESS=1 Rue des Grands Prés\, Ch
 essy\, 77700\, France;X-APPLE-RADIUS=100;X-TITLE=Relais Spa Val d'Europe:g
 eo:48.8573254,2.772843299999977
END:VEVENT
END:VCALENDAR