BEGIN:VCALENDAR
VERSION:2.0
PRODID:-//wp-events-plugin.com//7.2.3.1//EN
BEGIN:VEVENT
UID:37@acces.fr
DTSTART:20160706T080000Z
DTEND:20160706T160000Z
DTSTAMP:20230607T095835Z
URL:https://www.acces.fr/formations-ce/la-compta-du-ce-pour-les-tresoriers
 /
SUMMARY:La compta du CE pour les trésoriers
DESCRIPTION:La compta du CE pour les trésoriers : cadre juridique et cas p
 ratique\n\nParis
END:VEVENT
END:VCALENDAR