BEGIN:VCALENDAR
VERSION:2.0
PRODID:-//wp-events-plugin.com//7.2.3.1//EN
BEGIN:VEVENT
UID:12@acces.fr
DTSTART:20151005T080000Z
DTEND:20151005T160000Z
DTSTAMP:20230607T095813Z
URL:https://www.acces.fr/formations-ce/les-dernieres-actualites/
SUMMARY:Dernières Actualités : Réforme du dialogue social
DESCRIPTION:\n	Réforme du dialogue social : La nouvelle donne pour les IRP
 \n\nLYON - 5 octobre                          
                      NANTES - 6 octobre
END:VEVENT
END:VCALENDAR